BEGIN:VCALENDAR
VERSION:2.0
PRODID:-//Skydeck - ECPv6.15.20//NONSGML v1.0//EN
CALSCALE:GREGORIAN
METHOD:PUBLISH
X-ORIGINAL-URL:https://theskydeck.com
X-WR-CALDESC:Events for Skydeck
REFRESH-INTERVAL;VALUE=DURATION:PT1H
X-Robots-Tag:noindex
X-PUBLISHED-TTL:PT1H
BEGIN:VTIMEZONE
TZID:America/Chicago
BEGIN:DAYLIGHT
TZOFFSETFROM:-0600
TZOFFSETTO:-0500
TZNAME:CDT
DTSTART:20230312T080000
END:DAYLIGHT
BEGIN:STANDARD
TZOFFSETFROM:-0500
TZOFFSETTO:-0600
TZNAME:CST
DTSTART:20231105T070000
END:STANDARD
BEGIN:DAYLIGHT
TZOFFSETFROM:-0600
TZOFFSETTO:-0500
TZNAME:CDT
DTSTART:20240310T080000
END:DAYLIGHT
BEGIN:STANDARD
TZOFFSETFROM:-0500
TZOFFSETTO:-0600
TZNAME:CST
DTSTART:20241103T070000
END:STANDARD
BEGIN:DAYLIGHT
TZOFFSETFROM:-0600
TZOFFSETTO:-0500
TZNAME:CDT
DTSTART:20250309T080000
END:DAYLIGHT
BEGIN:STANDARD
TZOFFSETFROM:-0500
TZOFFSETTO:-0600
TZNAME:CST
DTSTART:20251102T070000
END:STANDARD
BEGIN:DAYLIGHT
TZOFFSETFROM:-0600
TZOFFSETTO:-0500
TZNAME:CDT
DTSTART:20260308T080000
END:DAYLIGHT
BEGIN:STANDARD
TZOFFSETFROM:-0500
TZOFFSETTO:-0600
TZNAME:CST
DTSTART:20261101T070000
END:STANDARD
END:VTIMEZONE
BEGIN:VEVENT
DTSTART;VALUE=DATE:20241212
DTEND;VALUE=DATE:20250117
DTSTAMP:20260423T050834
CREATED:20241125T200045Z
LAST-MODIFIED:20241125T200045Z
UID:20006542-1733961600-1737071999@theskydeck.com
SUMMARY:Holiday Colors- Antenna Color: Red & Green
DESCRIPTION:
URL:https://theskydeck.com/event/holiday-colors-antenna-color-red-green-2/
END:VEVENT
BEGIN:VEVENT
DTSTART;VALUE=DATE:20241216
DTEND;VALUE=DATE:20250121
DTSTAMP:20260423T050834
CREATED:20241125T200113Z
LAST-MODIFIED:20241125T200113Z
UID:20006543-1734307200-1737417599@theskydeck.com
SUMMARY:Holiday Colors- Antenna Color: Red & Green
DESCRIPTION:
URL:https://theskydeck.com/event/holiday-colors-antenna-color-red-green-3/
END:VEVENT
BEGIN:VEVENT
DTSTART;TZID=America/Chicago:20241221T110000
DTEND;TZID=America/Chicago:20241222T160000
DTSTAMP:20260423T050834
CREATED:20241122T225129Z
LAST-MODIFIED:20241122T225129Z
UID:20006527-1734778800-1734883200@theskydeck.com
SUMMARY:Santa at Skydeck Chicago
DESCRIPTION:Santa on LL2 with Photogenic
URL:https://theskydeck.com/event/santa-at-skydeck-chicago-4/
END:VEVENT
BEGIN:VEVENT
DTSTART;VALUE=DATE:20241222
DTEND;VALUE=DATE:20241223
DTSTAMP:20260423T050834
CREATED:20241125T195159Z
LAST-MODIFIED:20241125T195159Z
UID:20006532-1734825600-1734911999@theskydeck.com
SUMMARY:Chicago Bears- Antenna Color: Orange & Blue
DESCRIPTION:
URL:https://theskydeck.com/event/chicago-bears-antenna-color-orange-blue-3/
END:VEVENT
END:VCALENDAR